BEGIN:VCALENDAR
VERSION:2.0
PRODID:-//CT Chemie GmbH - ECPv6.15.15//NONSGML v1.0//EN
CALSCALE:GREGORIAN
METHOD:PUBLISH
X-ORIGINAL-URL:https://dev.ct-chemie.ch/it/
X-WR-CALDESC:Eventi per CT Chemie GmbH
REFRESH-INTERVAL;VALUE=DURATION:PT1H
X-Robots-Tag:noindex
X-PUBLISHED-TTL:PT1H
BEGIN:VTIMEZONE
TZID:Europe/Amsterdam
BEGIN:DAYLIGHT
TZOFFSETFROM:+0100
TZOFFSETTO:+0200
TZNAME:CEST
DTSTART:20210328T010000
END:DAYLIGHT
BEGIN:STANDARD
TZOFFSETFROM:+0200
TZOFFSETTO:+0100
TZNAME:CET
DTSTART:20211031T010000
END:STANDARD
BEGIN:DAYLIGHT
TZOFFSETFROM:+0100
TZOFFSETTO:+0200
TZNAME:CEST
DTSTART:20220327T010000
END:DAYLIGHT
BEGIN:STANDARD
TZOFFSETFROM:+0200
TZOFFSETTO:+0100
TZNAME:CET
DTSTART:20221030T010000
END:STANDARD
BEGIN:DAYLIGHT
TZOFFSETFROM:+0100
TZOFFSETTO:+0200
TZNAME:CEST
DTSTART:20230326T010000
END:DAYLIGHT
BEGIN:STANDARD
TZOFFSETFROM:+0200
TZOFFSETTO:+0100
TZNAME:CET
DTSTART:20231029T010000
END:STANDARD
END:VTIMEZONE
BEGIN:VEVENT
DTSTART;TZID=Europe/Amsterdam:20221216T084500
DTEND;TZID=Europe/Amsterdam:20221216T160000
DTSTAMP:20260421T035748
CREATED:20150714T080549Z
LAST-MODIFIED:20230125T121045Z
UID:8150-1671180300-1671206400@dev.ct-chemie.ch
SUMMARY:1-Tageskurs Reinigung\, Schutz\, Pflege & Auffrischen von Kunststein\, Marmor und Kalkstein
DESCRIPTION:Reinigung\, Schutz\, Pflege und Auffrischen (Reinigungsschliff\, Überschleifen) von Kunststein\, Marmor und Kalkstein.\nTheorie und Wirkung der Produkte\, praktisches Arbeiten\, nützliche Tipps und Tricks. \nKurskosten: CHF 225.– pro Person\, inkl. Begrüssungskaffee\, Getränke\, Mittagslunch\, Kursunterlagen und Kursdiplom \nReferent: Dominik Bachmann\, CT Chemie GmbH\, Ersigen \n  \nAnmeldung bitte mit vollständig ausgefülltem Anmeldetalon.\nDie Rechnung erfolgt innerhalb von zwei Arbeitstagen\, nach schriftlicher Anmeldung. \nAllgemeine Bedingungen\nDie Kurse werden in Gruppen bis max. 15 Personen und nur bei genügend Teilnehmern (mindestens 8 Personen) durchgeführt. Die Teilnehmer werden nach Eingang der Anmeldung berücksichtigt. Die Anmeldung ist gültig nach Eingang des vollen Kursbetrages (ohne Abzüge). Sollte ein Kurs mangels Teilnehmer nicht durchgeführt werden\, so wird dies spätestens eine Woche vorher mitgeteilt. Es werden die vollen Kursgebühren zurückerstattet\, wenn ein Kurs nicht stattfindet. Darüberhinaus bestehen keine weiteren Ansprüche.\nRücktritt: Es kann eine Ersatzperson anstelle der angemeldeten Person teilnehmen. Bei Krankheit (gegen Arztzeugnis) und bis 14 Tage vor dem Kurs wird 90% des Kursgeldes zurückerstattet. Bis und mit 7 Tage vorher 50%\, ab dem 6. Tag fallen die kompletten Kursgebühren an.\nBei Unfällen übernimmt die Firma CT Chemie GmbH\, Ersigen keine Haftung.\nVersicherung ist Sache der Teilnehmer.
URL:https://dev.ct-chemie.ch/it/event/hmk-wengas/
LOCATION:CT CHEMIE GMBH
CATEGORIES:HMK,Wengas
ATTACH;FMTTYPE=image/jpeg:https://dev.ct-chemie.ch/wp-content/uploads/Bildschulungen.jpg
ORGANIZER;CN="CT CHEMIE GMBH":MAILTO:info@dev.ct-chemie.ch
END:VEVENT
END:VCALENDAR